BEGIN:VCALENDAR
METHOD:PUBLISH
VERSION:2.0
CALSCALE:GREGORIAN
PRODID:-//NONSGML WPForms//NONSGML Sugar Calendar Feeds v3.11.0//EN
X-WR-CALNAME:Världsböndagen gudstjänst
X-WR-CALDESC:
X-WR-TIMEZONE:Europe/Stockholm
BEGIN:VTIMEZONE
TZID:Europe/Stockholm
BEGIN:STANDARD
TZOFFSETFROM:+0200
TZOFFSETTO:+0100
DTSTART:20231029T010000
TZNAME:CET
END:STANDARD
END:VTIMEZONE
BEGIN:VTIMEZONE
TZID:Europe/Stockholm
BEGIN:STANDARD
TZOFFSETFROM:+0200
TZOFFSETTO:+0100
DTSTART:20231029T010000
TZNAME:CET
END:STANDARD
END:VTIMEZONE
BEGIN:VEVENT
SUMMARY:Världsböndagen gudstjänst
DESCRIPTION:Ekumenisk gudstjänst\nDomkyrkan Kalmar\nFredag 1/3 kl 12-12
 .30
URL;VALUE=URI:https://vasakyrkan.nu/events/varldsbondagen-gudstjanst/
UID:urn:uuid:0aa609ef-1083-4091-879b-252dcd684276
STATUS:CONFIRMED
ORGANIZER:
DTSTAMP:20260422T160515Z
DTSTART;TZID=Europe/Stockholm:20240301T120000
DTEND;TZID=Europe/Stockholm:20240301T123000
END:VEVENT
END:VCALENDAR