BEGIN:VCALENDAR
METHOD:PUBLISH
VERSION:2.0
CALSCALE:GREGORIAN
PRODID:-//NONSGML WPForms//NONSGML Sugar Calendar Feeds v3.11.0//EN
X-WR-CALNAME:Världens ljus
X-WR-CALDESC:
X-WR-TIMEZONE:Europe/Stockholm
BEGIN:VTIMEZONE
TZID:Europe/Stockholm
BEGIN:DAYLIGHT
TZOFFSETFROM:+0100
TZOFFSETTO:+0200
DTSTART:20240331T010000
TZNAME:CEST
END:DAYLIGHT
END:VTIMEZONE
BEGIN:VTIMEZONE
TZID:Europe/Stockholm
BEGIN:DAYLIGHT
TZOFFSETFROM:+0100
TZOFFSETTO:+0200
DTSTART:20240331T010000
TZNAME:CEST
END:DAYLIGHT
END:VTIMEZONE
BEGIN:VEVENT
SUMMARY:Världens ljus
DESCRIPTION:Ljuständning på Stortorget\nKl 20 Andrum - andakt Domkyrka
 n\nLör 24 augusti kl 19-22  Mer info
URL;VALUE=URI:https://vasakyrkan.nu/events/varldens-ljus-20/
UID:urn:uuid:2644bad3-231b-4506-8c19-f831ceba5225
STATUS:CONFIRMED
ORGANIZER:
DTSTAMP:20260422T082405Z
DTSTART;TZID=Europe/Stockholm:20240824T190000
DTEND;TZID=Europe/Stockholm:20240824T220000
END:VEVENT
END:VCALENDAR