BEGIN:VCALENDAR
METHOD:PUBLISH
VERSION:2.0
CALSCALE:GREGORIAN
PRODID:-//NONSGML WPForms//NONSGML Sugar Calendar Feeds v3.11.0//EN
X-WR-CALNAME:Valborgsfirande i Mossebo
X-WR-CALDESC:
X-WR-TIMEZONE:Europe/Stockholm
BEGIN:VTIMEZONE
TZID:Europe/Stockholm
BEGIN:DAYLIGHT
TZOFFSETFROM:+0100
TZOFFSETTO:+0200
DTSTART:20260329T010000
TZNAME:CEST
END:DAYLIGHT
END:VTIMEZONE
BEGIN:VTIMEZONE
TZID:Europe/Stockholm
BEGIN:DAYLIGHT
TZOFFSETFROM:+0100
TZOFFSETTO:+0200
DTSTART:20260329T010000
TZNAME:CEST
END:DAYLIGHT
END:VTIMEZONE
BEGIN:VEVENT
SUMMARY:Valborgsfirande i Mossebo
DESCRIPTION:Valborgsfirande Mossebo\nMajbrasa\, vårtal\, körsång\, ko
 rv och bröd\, fiskdamm mm\nTorsdag 30 april kl 17.30
URL;VALUE=URI:https://vasakyrkan.nu/events/valborgsfirande-i-mossebo/
UID:urn:uuid:efe063bf-dbc8-43be-9c41-c6054bc59577
STATUS:CONFIRMED
ORGANIZER:
DTSTAMP:20260420T033158Z
DTSTART;TZID=Europe/Stockholm:20260430T173000
DTEND;TZID=Europe/Stockholm:20260430T203000
END:VEVENT
END:VCALENDAR