BEGIN:VCALENDAR
METHOD:PUBLISH
VERSION:2.0
CALSCALE:GREGORIAN
PRODID:-//NONSGML WPForms//NONSGML Sugar Calendar Feeds v3.11.0//EN
X-WR-CALNAME:Undervisning K G Larsson
X-WR-CALDESC:
X-WR-TIMEZONE:Europe/Stockholm
BEGIN:VTIMEZONE
TZID:Europe/Stockholm
BEGIN:DAYLIGHT
TZOFFSETFROM:+0100
TZOFFSETTO:+0200
DTSTART:20220327T010000
TZNAME:CEST
END:DAYLIGHT
END:VTIMEZONE
BEGIN:VTIMEZONE
TZID:Europe/Stockholm
BEGIN:DAYLIGHT
TZOFFSETFROM:+0100
TZOFFSETTO:+0200
DTSTART:20220327T010000
TZNAME:CEST
END:DAYLIGHT
END:VTIMEZONE
BEGIN:VEVENT
SUMMARY:Undervisning K G Larsson
DESCRIPTION:Israel\, profetiorna\, himlen\nLänk till webbsändningen\nL
 ördag 27 augusti kl 16
URL;VALUE=URI:https://vasakyrkan.nu/events/undervisning/
UID:urn:uuid:2066ce55-14cb-41a7-9097-5e2e14b60ffa
STATUS:CONFIRMED
ORGANIZER:
DTSTAMP:20260421T235125Z
DTSTART;TZID=Europe/Stockholm:20220827T160000
DTEND;TZID=Europe/Stockholm:20220827T181500
END:VEVENT
END:VCALENDAR