BEGIN:VCALENDAR
METHOD:PUBLISH
VERSION:2.0
CALSCALE:GREGORIAN
PRODID:-//NONSGML WPForms//NONSGML Sugar Calendar Feeds v3.11.0//EN
X-WR-CALNAME:Torsdagsfika (på nätet)
X-WR-CALDESC:
X-WR-TIMEZONE:Europe/Stockholm
BEGIN:VTIMEZONE
TZID:Europe/Stockholm
BEGIN:DAYLIGHT
TZOFFSETFROM:+0200
TZOFFSETTO:+0200
DTSTART:20210422T070000
TZNAME:CEST
END:DAYLIGHT
END:VTIMEZONE
BEGIN:VTIMEZONE
TZID:Europe/Stockholm
BEGIN:DAYLIGHT
TZOFFSETFROM:+0200
TZOFFSETTO:+0200
DTSTART:20210422T070000
TZNAME:CEST
END:DAYLIGHT
END:VTIMEZONE
BEGIN:VEVENT
SUMMARY:Torsdagsfika (på nätet)
DESCRIPTION:Samtal Matt 22:15-22\nLänk till Torsdagsfikat\nTorsdag 21 o
 ktober  kl 19.00
URL;VALUE=URI:https://vasakyrkan.nu/events/torsdagsfika-pa-natet-12/
UID:urn:uuid:e2081c2e-fb86-4290-99ca-66d36f0b8d48
STATUS:CONFIRMED
ORGANIZER:
DTSTAMP:20260422T101120Z
DTSTART;TZID=Europe/Stockholm:20211021T190000
DTEND;TZID=Europe/Stockholm:20211021T200000
END:VEVENT
END:VCALENDAR