BEGIN:VCALENDAR
METHOD:PUBLISH
VERSION:2.0
CALSCALE:GREGORIAN
PRODID:-//NONSGML WPForms//NONSGML Sugar Calendar Feeds v3.11.0//EN
X-WR-CALNAME:Tisdagsträffen
X-WR-CALDESC:
X-WR-TIMEZONE:Europe/Stockholm
BEGIN:VTIMEZONE
TZID:Europe/Stockholm
BEGIN:DAYLIGHT
TZOFFSETFROM:+0100
TZOFFSETTO:+0200
DTSTART:20230326T010000
TZNAME:CEST
END:DAYLIGHT
END:VTIMEZONE
BEGIN:VTIMEZONE
TZID:Europe/Stockholm
BEGIN:DAYLIGHT
TZOFFSETFROM:+0100
TZOFFSETTO:+0200
DTSTART:20230326T010000
TZNAME:CEST
END:DAYLIGHT
END:VTIMEZONE
BEGIN:VEVENT
SUMMARY:Tisdagsträffen
DESCRIPTION:Tisdagsträff\nSe program och information\nTisdag kl 14-16
URL;VALUE=URI:https://vasakyrkan.nu/events/tisdagstraffen-6/
UID:urn:uuid:52139c08-0491-4523-9dad-1edf16a786ed
STATUS:CONFIRMED
ORGANIZER:
DTSTAMP:20260420T083801Z
DTSTART;TZID=Europe/Stockholm:20230516T140000
DTEND;TZID=Europe/Stockholm:20230516T160000
END:VEVENT
END:VCALENDAR