BEGIN:VCALENDAR
METHOD:PUBLISH
VERSION:2.0
CALSCALE:GREGORIAN
PRODID:-//NONSGML WPForms//NONSGML Sugar Calendar Feeds v3.11.0//EN
X-WR-CALNAME:Temahelg om Bibeln
X-WR-CALDESC:
X-WR-TIMEZONE:Europe/Stockholm
BEGIN:VTIMEZONE
TZID:Europe/Stockholm
BEGIN:STANDARD
TZOFFSETFROM:+0200
TZOFFSETTO:+0100
DTSTART:20231029T010000
TZNAME:CET
END:STANDARD
END:VTIMEZONE
BEGIN:VTIMEZONE
TZID:Europe/Stockholm
BEGIN:STANDARD
TZOFFSETFROM:+0200
TZOFFSETTO:+0100
DTSTART:20231029T010000
TZNAME:CET
END:STANDARD
END:VTIMEZONE
BEGIN:VEVENT
SUMMARY:Temahelg om Bibeln
DESCRIPTION:James Starr\, Johannelund\nkl 17 Undervisning "Bibelsyn"\nSe
 rvering
URL;VALUE=URI:https://vasakyrkan.nu/events/temahelg-om-bibeln/
UID:urn:uuid:775db312-948a-4b13-8383-ab714fd96559
STATUS:CONFIRMED
ORGANIZER:
DTSTAMP:20260422T234847Z
DTSTART;TZID=Europe/Stockholm:20231111T170000
DTEND;TZID=Europe/Stockholm:20231111T183000
END:VEVENT
END:VCALENDAR