BEGIN:VCALENDAR
METHOD:PUBLISH
VERSION:2.0
CALSCALE:GREGORIAN
PRODID:-//NONSGML WPForms//NONSGML Sugar Calendar Feeds v3.11.0//EN
X-WR-CALNAME:Swahiligudstjänst m vigsel
X-WR-CALDESC:
X-WR-TIMEZONE:Europe/Stockholm
BEGIN:VTIMEZONE
TZID:Europe/Stockholm
BEGIN:DAYLIGHT
TZOFFSETFROM:+0100
TZOFFSETTO:+0200
DTSTART:20240331T010000
TZNAME:CEST
END:DAYLIGHT
END:VTIMEZONE
BEGIN:VTIMEZONE
TZID:Europe/Stockholm
BEGIN:DAYLIGHT
TZOFFSETFROM:+0100
TZOFFSETTO:+0200
DTSTART:20240331T010000
TZNAME:CEST
END:DAYLIGHT
END:VTIMEZONE
BEGIN:VEVENT
SUMMARY:Swahiligudstjänst m vigsel
DESCRIPTION:Gudstjänst med vigsel\nKaribu! /Välkommen!\nLördag kl 11-
 13 (OBS!)
URL;VALUE=URI:https://vasakyrkan.nu/events/swahiligudstjanst-m-vigsel/
UID:urn:uuid:8e5e2d05-a331-463b-af6a-53cf3432ad69
STATUS:CONFIRMED
ORGANIZER:
DTSTAMP:20260422T172920Z
DTSTART;TZID=Europe/Stockholm:20240629T110000
DTEND;TZID=Europe/Stockholm:20240629T130000
END:VEVENT
END:VCALENDAR