BEGIN:VCALENDAR
METHOD:PUBLISH
VERSION:2.0
CALSCALE:GREGORIAN
PRODID:-//NONSGML WPForms//NONSGML Sugar Calendar Feeds v3.11.0//EN
X-WR-CALNAME:Swahiligudstjänst
X-WR-CALDESC:
X-WR-TIMEZONE:Europe/Stockholm
BEGIN:VTIMEZONE
TZID:Europe/Stockholm
BEGIN:STANDARD
TZOFFSETFROM:+0200
TZOFFSETTO:+0100
DTSTART:20241027T010000
TZNAME:CET
END:STANDARD
END:VTIMEZONE
BEGIN:VTIMEZONE
TZID:Europe/Stockholm
BEGIN:STANDARD
TZOFFSETFROM:+0200
TZOFFSETTO:+0100
DTSTART:20241027T010000
TZNAME:CET
END:STANDARD
END:VTIMEZONE
BEGIN:VEVENT
SUMMARY:Swahiligudstjänst
DESCRIPTION:Gudstjänst på Swahili\nKaribu! /Välkommen!\nLördag kl 10
 -12
URL;VALUE=URI:https://vasakyrkan.nu/events/swahiligudstjanst-96/
UID:urn:uuid:ed826546-de70-4082-ac1e-1a6c30bda0ad
STATUS:CONFIRMED
ORGANIZER:
DTSTAMP:20260422T173319Z
DTSTART;TZID=Europe/Stockholm:20250308T100000
DTEND;TZID=Europe/Stockholm:20250308T120000
END:VEVENT
END:VCALENDAR