BEGIN:VCALENDAR
METHOD:PUBLISH
VERSION:2.0
CALSCALE:GREGORIAN
PRODID:-//NONSGML WPForms//NONSGML Sugar Calendar Feeds v3.11.0//EN
X-WR-CALNAME:Swahiligudstjänst
X-WR-CALDESC:
X-WR-TIMEZONE:Europe/Stockholm
BEGIN:VTIMEZONE
TZID:Europe/Stockholm
BEGIN:STANDARD
TZOFFSETFROM:+0200
TZOFFSETTO:+0100
DTSTART:20221030T010000
TZNAME:CET
END:STANDARD
END:VTIMEZONE
BEGIN:VTIMEZONE
TZID:Europe/Stockholm
BEGIN:STANDARD
TZOFFSETFROM:+0200
TZOFFSETTO:+0100
DTSTART:20221030T010000
TZNAME:CET
END:STANDARD
END:VTIMEZONE
BEGIN:VEVENT
SUMMARY:Swahiligudstjänst
DESCRIPTION:Gudstjänst på Swahili\nKaribu! /Välkommen!\nLördag kl 10
 -12
URL;VALUE=URI:https://vasakyrkan.nu/events/swahiligudstjanst-6/
UID:urn:uuid:361227ff-1a13-44d1-ba09-e4faa11a9fe9
STATUS:CONFIRMED
ORGANIZER:
DTSTAMP:20260422T053458Z
DTSTART;TZID=Europe/Stockholm:20221126T100000
DTEND;TZID=Europe/Stockholm:20221126T120000
END:VEVENT
END:VCALENDAR