BEGIN:VCALENDAR
METHOD:PUBLISH
VERSION:2.0
CALSCALE:GREGORIAN
PRODID:-//NONSGML WPForms//NONSGML Sugar Calendar Feeds v3.11.0//EN
X-WR-CALNAME:Swahiligudstjänst
X-WR-CALDESC:
X-WR-TIMEZONE:Europe/Stockholm
BEGIN:VTIMEZONE
TZID:Europe/Stockholm
BEGIN:STANDARD
TZOFFSETFROM:+0200
TZOFFSETTO:+0100
DTSTART:20231029T010000
TZNAME:CET
END:STANDARD
END:VTIMEZONE
BEGIN:VTIMEZONE
TZID:Europe/Stockholm
BEGIN:STANDARD
TZOFFSETFROM:+0200
TZOFFSETTO:+0100
DTSTART:20231029T010000
TZNAME:CET
END:STANDARD
END:VTIMEZONE
BEGIN:VEVENT
SUMMARY:Swahiligudstjänst
DESCRIPTION:Gudstjänst på Swahili\nKaribu! /Välkommen!\nLördag kl 10
 -12
URL;VALUE=URI:https://vasakyrkan.nu/events/swahiligudstjanst-51/
UID:urn:uuid:f59cc873-007f-4c5b-8026-120c65ed067b
STATUS:CONFIRMED
ORGANIZER:
DTSTAMP:20260425T202029Z
DTSTART;TZID=Europe/Stockholm:20231104T100000
DTEND;TZID=Europe/Stockholm:20231104T120000
END:VEVENT
END:VCALENDAR