BEGIN:VCALENDAR
METHOD:PUBLISH
VERSION:2.0
CALSCALE:GREGORIAN
PRODID:-//NONSGML WPForms//NONSGML Sugar Calendar Feeds v3.11.0//EN
X-WR-CALNAME:Swahiligudstjänst
X-WR-CALDESC:
X-WR-TIMEZONE:Europe/Stockholm
BEGIN:VTIMEZONE
TZID:Europe/Stockholm
BEGIN:DAYLIGHT
TZOFFSETFROM:+0200
TZOFFSETTO:+0200
DTSTART:20230331T220000
TZNAME:CEST
END:DAYLIGHT
END:VTIMEZONE
BEGIN:VTIMEZONE
TZID:Europe/Stockholm
BEGIN:DAYLIGHT
TZOFFSETFROM:+0200
TZOFFSETTO:+0200
DTSTART:20230331T220000
TZNAME:CEST
END:DAYLIGHT
END:VTIMEZONE
BEGIN:VEVENT
SUMMARY:Swahiligudstjänst
DESCRIPTION:Gudstjänst på Swahili\nKaribu! /Välkommen!\nLördag kl 10
 -12
URL;VALUE=URI:https://vasakyrkan.nu/events/swahiligudstjanst-46/
UID:urn:uuid:97d59837-9759-4037-9322-a66b1802e7d3
STATUS:CONFIRMED
ORGANIZER:
DTSTAMP:20260421T105352Z
DTSTART;TZID=Europe/Stockholm:20230930T100000
DTEND;TZID=Europe/Stockholm:20230930T120000
END:VEVENT
END:VCALENDAR