BEGIN:VCALENDAR
METHOD:PUBLISH
VERSION:2.0
CALSCALE:GREGORIAN
PRODID:-//NONSGML WPForms//NONSGML Sugar Calendar Feeds v3.11.0//EN
X-WR-CALNAME:Swahiligudstjänst
X-WR-CALDESC:
X-WR-TIMEZONE:Europe/Stockholm
BEGIN:VTIMEZONE
TZID:Europe/Stockholm
BEGIN:DAYLIGHT
TZOFFSETFROM:+0100
TZOFFSETTO:+0200
DTSTART:20230326T010000
TZNAME:CEST
END:DAYLIGHT
END:VTIMEZONE
BEGIN:VTIMEZONE
TZID:Europe/Stockholm
BEGIN:DAYLIGHT
TZOFFSETFROM:+0100
TZOFFSETTO:+0200
DTSTART:20230326T010000
TZNAME:CEST
END:DAYLIGHT
END:VTIMEZONE
BEGIN:VEVENT
SUMMARY:Swahiligudstjänst
DESCRIPTION:Gudstjänst på Swahili\nKaribu! /Välkommen!\nLördag kl 9-
 11
URL;VALUE=URI:https://vasakyrkan.nu/events/swahiligudstjanst-29/
UID:urn:uuid:b052a685-0ebe-4564-8fc2-194a987aa9c6
STATUS:CONFIRMED
ORGANIZER:
DTSTAMP:20260422T111634Z
DTSTART;TZID=Europe/Stockholm:20230513T090000
DTEND;TZID=Europe/Stockholm:20230513T110000
END:VEVENT
END:VCALENDAR