BEGIN:VCALENDAR
METHOD:PUBLISH
VERSION:2.0
CALSCALE:GREGORIAN
PRODID:-//NONSGML WPForms//NONSGML Sugar Calendar Feeds v3.11.0//EN
X-WR-CALNAME:Swahiligudstjänst
X-WR-CALDESC:
X-WR-TIMEZONE:Europe/Stockholm
BEGIN:VTIMEZONE
TZID:Europe/Stockholm
BEGIN:STANDARD
TZOFFSETFROM:+0200
TZOFFSETTO:+0100
DTSTART:20241027T010000
TZNAME:CET
END:STANDARD
BEGIN:DAYLIGHT
TZOFFSETFROM:+0100
TZOFFSETTO:+0200
DTSTART:20250330T010000
TZNAME:CEST
END:DAYLIGHT
END:VTIMEZONE
BEGIN:VTIMEZONE
TZID:Europe/Stockholm
BEGIN:STANDARD
TZOFFSETFROM:+0200
TZOFFSETTO:+0100
DTSTART:20241027T010000
TZNAME:CET
END:STANDARD
BEGIN:DAYLIGHT
TZOFFSETFROM:+0100
TZOFFSETTO:+0200
DTSTART:20250330T010000
TZNAME:CEST
END:DAYLIGHT
END:VTIMEZONE
BEGIN:VEVENT
SUMMARY:Swahiligudstjänst
DESCRIPTION:Gudstjänst på Swahili\nKaribu! /Välkommen!\nLördag kl 10
 -12
URL;VALUE=URI:https://vasakyrkan.nu/events/swahiligudstjanst-101/
UID:urn:uuid:7834278d-c006-4310-a0a9-71ec9500224e
STATUS:CONFIRMED
ORGANIZER:
DTSTAMP:20260425T120315Z
DTSTART;TZID=Europe/Stockholm:20250412T100000
DTEND;TZID=Europe/Stockholm:20250412T120000
END:VEVENT
END:VCALENDAR