BEGIN:VCALENDAR
METHOD:PUBLISH
VERSION:2.0
CALSCALE:GREGORIAN
PRODID:-//NONSGML WPForms//NONSGML Sugar Calendar Feeds v3.11.0//EN
X-WR-CALNAME:Språkcafé
X-WR-CALDESC:
X-WR-TIMEZONE:Europe/Stockholm
BEGIN:VTIMEZONE
TZID:Europe/Stockholm
BEGIN:STANDARD
TZOFFSETFROM:+0200
TZOFFSETTO:+0100
DTSTART:20251026T010000
TZNAME:CET
END:STANDARD
BEGIN:DAYLIGHT
TZOFFSETFROM:+0100
TZOFFSETTO:+0200
DTSTART:20260329T010000
TZNAME:CEST
END:DAYLIGHT
END:VTIMEZONE
BEGIN:VTIMEZONE
TZID:Europe/Stockholm
BEGIN:STANDARD
TZOFFSETFROM:+0200
TZOFFSETTO:+0100
DTSTART:20251026T010000
TZNAME:CET
END:STANDARD
BEGIN:DAYLIGHT
TZOFFSETFROM:+0100
TZOFFSETTO:+0200
DTSTART:20260329T010000
TZNAME:CEST
END:DAYLIGHT
END:VTIMEZONE
BEGIN:VEVENT
SUMMARY:Språkcafé
DESCRIPTION:Språkcafé\nFör dig som kommer från Ukraina\nTorsdag 23/4
  kl.15.30
URL;VALUE=URI:https://vasakyrkan.nu/events/sprakcafe/
UID:urn:uuid:28201df7-7650-42b0-981b-948fceda430e
STATUS:CONFIRMED
ORGANIZER:
DTSTAMP:20260420T015722Z
DTSTART;TZID=Europe/Stockholm:20260423T153000
DTEND;TZID=Europe/Stockholm:20260423T170000
END:VEVENT
END:VCALENDAR