BEGIN:VCALENDAR
METHOD:PUBLISH
VERSION:2.0
CALSCALE:GREGORIAN
PRODID:-//NONSGML WPForms//NONSGML Sugar Calendar Feeds v3.11.0//EN
X-WR-CALNAME:Söndagshäng
X-WR-CALDESC:
X-WR-TIMEZONE:Europe/Stockholm
BEGIN:VTIMEZONE
TZID:Europe/Stockholm
BEGIN:STANDARD
TZOFFSETFROM:+0200
TZOFFSETTO:+0100
DTSTART:20231029T010000
TZNAME:CET
END:STANDARD
END:VTIMEZONE
BEGIN:VTIMEZONE
TZID:Europe/Stockholm
BEGIN:STANDARD
TZOFFSETFROM:+0200
TZOFFSETTO:+0100
DTSTART:20231029T010000
TZNAME:CET
END:STANDARD
END:VTIMEZONE
BEGIN:VEVENT
SUMMARY:Söndagshäng
DESCRIPTION:10 Samling i Vasakyrkan\nFrån årskurs 7 och uppåt – Se 
 program\nInfo: David Gränsmark 070-363 82 13
URL;VALUE=URI:https://vasakyrkan.nu/events/sondagshang-5/
UID:urn:uuid:3076d7bc-8370-4a69-a4d7-ffa658ec6c3c
STATUS:CONFIRMED
ORGANIZER:
DTSTAMP:20260422T070053Z
DTSTART;TZID=Europe/Stockholm:20231112T100000
DTEND;TZID=Europe/Stockholm:20231112T120000
END:VEVENT
END:VCALENDAR