BEGIN:VCALENDAR
METHOD:PUBLISH
VERSION:2.0
CALSCALE:GREGORIAN
PRODID:-//NONSGML WPForms//NONSGML Sugar Calendar Feeds v3.11.0//EN
X-WR-CALNAME:Sångövning 1:a advent
X-WR-CALDESC:
X-WR-TIMEZONE:Europe/Stockholm
BEGIN:VTIMEZONE
TZID:Europe/Stockholm
BEGIN:STANDARD
TZOFFSETFROM:+0200
TZOFFSETTO:+0100
DTSTART:20221030T010000
TZNAME:CET
END:STANDARD
END:VTIMEZONE
BEGIN:VTIMEZONE
TZID:Europe/Stockholm
BEGIN:STANDARD
TZOFFSETFROM:+0200
TZOFFSETTO:+0100
DTSTART:20221030T010000
TZNAME:CET
END:STANDARD
END:VTIMEZONE
BEGIN:VEVENT
SUMMARY:Sångövning 1:a advent
DESCRIPTION:Torsdag 24/11 kl 19\nAlla Sångglada välkomna!\nÄven sönd
 ag kl 8.45
URL;VALUE=URI:https://vasakyrkan.nu/events/sangovning-1a-advent/
UID:urn:uuid:68a79c51-42de-42dc-bb74-544db7ab45dd
STATUS:CONFIRMED
ORGANIZER:
DTSTAMP:20260422T101709Z
DTSTART;TZID=Europe/Stockholm:20221124T190000
DTEND;TZID=Europe/Stockholm:20221124T203000
END:VEVENT
END:VCALENDAR