BEGIN:VCALENDAR
METHOD:PUBLISH
VERSION:2.0
CALSCALE:GREGORIAN
PRODID:-//NONSGML WPForms//NONSGML Sugar Calendar Feeds v3.11.0//EN
X-WR-CALNAME:Salt konstituerande årsmöte
X-WR-CALDESC:
X-WR-TIMEZONE:Europe/Stockholm
BEGIN:VTIMEZONE
TZID:Europe/Stockholm
BEGIN:STANDARD
TZOFFSETFROM:+0200
TZOFFSETTO:+0100
DTSTART:20221030T010000
TZNAME:CET
END:STANDARD
END:VTIMEZONE
BEGIN:VTIMEZONE
TZID:Europe/Stockholm
BEGIN:STANDARD
TZOFFSETFROM:+0200
TZOFFSETTO:+0100
DTSTART:20221030T010000
TZNAME:CET
END:STANDARD
END:VTIMEZONE
BEGIN:VEVENT
SUMMARY:Salt konstituerande årsmöte
DESCRIPTION:Salt\nKonstituerande årsmöte\nTors 1 december kl 19
URL;VALUE=URI:https://vasakyrkan.nu/events/salt-konstituerande-arsmote/
UID:urn:uuid:b22428ac-7e56-4076-9c6f-696d499c1ee5
STATUS:CONFIRMED
ORGANIZER:
DTSTAMP:20260422T084647Z
DTSTART;TZID=Europe/Stockholm:20221201T190000
DTEND;TZID=Europe/Stockholm:20221201T200000
END:VEVENT
END:VCALENDAR