BEGIN:VCALENDAR
METHOD:PUBLISH
VERSION:2.0
CALSCALE:GREGORIAN
PRODID:-//NONSGML WPForms//NONSGML Sugar Calendar Feeds v3.11.0//EN
X-WR-CALNAME:Retreat Gynge
X-WR-CALDESC:
X-WR-TIMEZONE:Europe/Stockholm
BEGIN:VTIMEZONE
TZID:Europe/Stockholm
BEGIN:DAYLIGHT
TZOFFSETFROM:+0200
TZOFFSETTO:+0200
DTSTART:20210409T063000
TZNAME:CEST
END:DAYLIGHT
END:VTIMEZONE
BEGIN:VTIMEZONE
TZID:Europe/Stockholm
BEGIN:DAYLIGHT
TZOFFSETFROM:+0200
TZOFFSETTO:+0200
DTSTART:20210409T063000
TZNAME:CEST
END:DAYLIGHT
END:VTIMEZONE
BEGIN:VEVENT
SUMMARY:Retreat Gynge
DESCRIPTION:8/10 kl 18.30 - 10/10 kl 14\nSussie Kårlin o Bertil Åhman\
 nInformation hittar Du här
URL;VALUE=URI:https://vasakyrkan.nu/events/retreat-pa-gyngegarden/
UID:urn:uuid:6d2a5142-9eb0-406b-b7be-1362299ddf33
STATUS:CONFIRMED
ORGANIZER:
DTSTAMP:20260422T040633Z
DTSTART;TZID=Europe/Stockholm:20211008T183000
DTEND;TZID=Europe/Stockholm:20211010T140000
END:VEVENT
END:VCALENDAR