BEGIN:VCALENDAR
METHOD:PUBLISH
VERSION:2.0
CALSCALE:GREGORIAN
PRODID:-//NONSGML WPForms//NONSGML Sugar Calendar Feeds v3.11.0//EN
X-WR-CALNAME:Påskkonferens
X-WR-CALDESC:
X-WR-TIMEZONE:Europe/Stockholm
BEGIN:VTIMEZONE
TZID:Europe/Stockholm
BEGIN:STANDARD
TZOFFSETFROM:+0200
TZOFFSETTO:+0100
DTSTART:20241027T010000
TZNAME:CET
END:STANDARD
BEGIN:DAYLIGHT
TZOFFSETFROM:+0100
TZOFFSETTO:+0200
DTSTART:20250330T010000
TZNAME:CEST
END:DAYLIGHT
END:VTIMEZONE
BEGIN:VTIMEZONE
TZID:Europe/Stockholm
BEGIN:STANDARD
TZOFFSETFROM:+0200
TZOFFSETTO:+0100
DTSTART:20241027T010000
TZNAME:CET
END:STANDARD
BEGIN:DAYLIGHT
TZOFFSETFROM:+0100
TZOFFSETTO:+0200
DTSTART:20250330T010000
TZNAME:CEST
END:DAYLIGHT
END:VTIMEZONE
BEGIN:VEVENT
SUMMARY:Påskkonferens
DESCRIPTION:Maria Smeds\, Per-Eive Berndtsson\nUndervisning\, lovsång\,
  Nattvard\nSkärtorsdag kl 19\, Länk sändning\n&nbsp\;
URL;VALUE=URI:https://vasakyrkan.nu/events/paskkonferens/
UID:urn:uuid:bf630ec1-545a-4d4d-85cd-084327bf363b
STATUS:CONFIRMED
ORGANIZER:
DTSTAMP:20260422T084345Z
DTSTART;TZID=Europe/Stockholm:20250417T190000
DTEND;TZID=Europe/Stockholm:20250417T203000
END:VEVENT
END:VCALENDAR