BEGIN:VCALENDAR
METHOD:PUBLISH
VERSION:2.0
CALSCALE:GREGORIAN
PRODID:-//NONSGML WPForms//NONSGML Sugar Calendar Feeds v3.11.0//EN
X-WR-CALNAME:Nattvard
X-WR-CALDESC:
X-WR-TIMEZONE:Europe/Stockholm
BEGIN:VTIMEZONE
TZID:Europe/Stockholm
BEGIN:DAYLIGHT
TZOFFSETFROM:+0100
TZOFFSETTO:+0200
DTSTART:20200329T010000
TZNAME:CEST
END:DAYLIGHT
END:VTIMEZONE
BEGIN:VTIMEZONE
TZID:Europe/Stockholm
BEGIN:DAYLIGHT
TZOFFSETFROM:+0100
TZOFFSETTO:+0200
DTSTART:20200329T010000
TZNAME:CEST
END:DAYLIGHT
END:VTIMEZONE
BEGIN:VEVENT
SUMMARY:Nattvard
DESCRIPTION:Enkelt nattvardsfirande\nUtomhus vid Vasakyrkan\nSöndag\n21
  juni klockan 11.45
URL;VALUE=URI:https://vasakyrkan.nu/events/nattvard/
UID:urn:uuid:a33e1d8a-dcc4-48ff-92d7-056f33bbc016
STATUS:CONFIRMED
ORGANIZER:
DTSTAMP:20260426T000449Z
DTSTART;TZID=Europe/Stockholm:20200621T114500
DTEND;TZID=Europe/Stockholm:20200621T114500
END:VEVENT
END:VCALENDAR