BEGIN:VCALENDAR
METHOD:PUBLISH
VERSION:2.0
CALSCALE:GREGORIAN
PRODID:-//NONSGML WPForms//NONSGML Sugar Calendar Feeds v3.11.0//EN
X-WR-CALNAME:Musik och Cafékväll
X-WR-CALDESC:
X-WR-TIMEZONE:Europe/Stockholm
BEGIN:VTIMEZONE
TZID:Europe/Stockholm
BEGIN:DAYLIGHT
TZOFFSETFROM:+0100
TZOFFSETTO:+0200
DTSTART:20200329T010000
TZNAME:CEST
END:DAYLIGHT
END:VTIMEZONE
BEGIN:VTIMEZONE
TZID:Europe/Stockholm
BEGIN:DAYLIGHT
TZOFFSETFROM:+0100
TZOFFSETTO:+0200
DTSTART:20200329T010000
TZNAME:CEST
END:DAYLIGHT
END:VTIMEZONE
BEGIN:VEVENT
SUMMARY:Musik och Cafékväll
DESCRIPTION:På Gyngegården\nMaria och Andreas Bröms\nMaria och Fredri
 k Bjärneroth\nLördag 11 juli klockan 19.00\nMax 50 deltagare
URL;VALUE=URI:https://vasakyrkan.nu/events/musik-och-cafekvall-2/
UID:urn:uuid:f7b946ef-bb5a-4d2b-8aa4-59ee233e4d90
STATUS:CONFIRMED
ORGANIZER:
DTSTAMP:20260421T110944Z
DTSTART;TZID=Europe/Stockholm:20200711T190000
DTEND;TZID=Europe/Stockholm:20200711T190000
END:VEVENT
END:VCALENDAR