BEGIN:VCALENDAR
METHOD:PUBLISH
VERSION:2.0
CALSCALE:GREGORIAN
PRODID:-//NONSGML WPForms//NONSGML Sugar Calendar Feeds v3.11.0//EN
X-WR-CALNAME:Kvällsmöte K G Larsson
X-WR-CALDESC:
X-WR-TIMEZONE:Europe/Stockholm
BEGIN:VTIMEZONE
TZID:Europe/Stockholm
BEGIN:DAYLIGHT
TZOFFSETFROM:+0100
TZOFFSETTO:+0200
DTSTART:20220327T010000
TZNAME:CEST
END:DAYLIGHT
END:VTIMEZONE
BEGIN:VTIMEZONE
TZID:Europe/Stockholm
BEGIN:DAYLIGHT
TZOFFSETFROM:+0100
TZOFFSETTO:+0200
DTSTART:20220327T010000
TZNAME:CEST
END:DAYLIGHT
END:VTIMEZONE
BEGIN:VEVENT
SUMMARY:Kvällsmöte K G Larsson
DESCRIPTION:Israel\, profetiorna\, himlen\nLänk till webbsändningen\nF
 redag 26 augusti kl 19
URL;VALUE=URI:https://vasakyrkan.nu/events/kvallsmote/
UID:urn:uuid:bbf98cc0-9efa-47a9-b733-358a32ac65ac
STATUS:CONFIRMED
ORGANIZER:
DTSTAMP:20260422T011347Z
DTSTART;TZID=Europe/Stockholm:20220826T190000
DTEND;TZID=Europe/Stockholm:20220826T203000
END:VEVENT
END:VCALENDAR