BEGIN:VCALENDAR
METHOD:PUBLISH
VERSION:2.0
CALSCALE:GREGORIAN
PRODID:-//NONSGML WPForms//NONSGML Sugar Calendar Feeds v3.11.0//EN
X-WR-CALNAME:Kreativ bibelläsning
X-WR-CALDESC:
X-WR-TIMEZONE:Europe/Stockholm
BEGIN:VTIMEZONE
TZID:Europe/Stockholm
BEGIN:STANDARD
TZOFFSETFROM:+0200
TZOFFSETTO:+0100
DTSTART:20221030T010000
TZNAME:CET
END:STANDARD
END:VTIMEZONE
BEGIN:VTIMEZONE
TZID:Europe/Stockholm
BEGIN:STANDARD
TZOFFSETFROM:+0200
TZOFFSETTO:+0100
DTSTART:20221030T010000
TZNAME:CET
END:STANDARD
END:VTIMEZONE
BEGIN:VEVENT
SUMMARY:Kreativ bibelläsning
DESCRIPTION:Kreativ bibelläsning\nVi träffas i Vasakyrkan\nLördag kl 
 10 i femkanten
URL;VALUE=URI:https://vasakyrkan.nu/events/kreativ-bibellasning-2/
UID:urn:uuid:cb4c928d-22f7-48c5-bb49-db80d05f01c3
STATUS:CONFIRMED
ORGANIZER:
DTSTAMP:20260422T114140Z
DTSTART;TZID=Europe/Stockholm:20221119T100000
DTEND;TZID=Europe/Stockholm:20221119T120000
END:VEVENT
END:VCALENDAR