BEGIN:VCALENDAR
METHOD:PUBLISH
VERSION:2.0
CALSCALE:GREGORIAN
PRODID:-//NONSGML WPForms//NONSGML Sugar Calendar Feeds v3.11.0//EN
X-WR-CALNAME:InsideOut
X-WR-CALDESC:
X-WR-TIMEZONE:Europe/Stockholm
BEGIN:VTIMEZONE
TZID:Europe/Stockholm
BEGIN:STANDARD
TZOFFSETFROM:+0200
TZOFFSETTO:+0100
DTSTART:20251026T010000
TZNAME:CET
END:STANDARD
BEGIN:DAYLIGHT
TZOFFSETFROM:+0100
TZOFFSETTO:+0200
DTSTART:20260329T010000
TZNAME:CEST
END:DAYLIGHT
END:VTIMEZONE
BEGIN:VTIMEZONE
TZID:Europe/Stockholm
BEGIN:STANDARD
TZOFFSETFROM:+0200
TZOFFSETTO:+0100
DTSTART:20251026T010000
TZNAME:CET
END:STANDARD
BEGIN:DAYLIGHT
TZOFFSETFROM:+0100
TZOFFSETTO:+0200
DTSTART:20260329T010000
TZNAME:CEST
END:DAYLIGHT
END:VTIMEZONE
BEGIN:VEVENT
SUMMARY:InsideOut
DESCRIPTION:Inside Out\nGemensam ungdomssamling i Klippan\nFredag 17 apr
 il
URL;VALUE=URI:https://vasakyrkan.nu/events/insideout-7/
UID:urn:uuid:9fba9e0c-3df5-4ff2-a817-32a924673d7b
STATUS:CONFIRMED
ORGANIZER:
DTSTAMP:20260420T050232Z
DTSTART;TZID=Europe/Stockholm:20260417T183000
DTEND;TZID=Europe/Stockholm:20260417T223000
END:VEVENT
END:VCALENDAR