BEGIN:VCALENDAR
METHOD:PUBLISH
VERSION:2.0
CALSCALE:GREGORIAN
PRODID:-//NONSGML WPForms//NONSGML Sugar Calendar Feeds v3.11.0//EN
X-WR-CALNAME:Inside Out (tonår)
X-WR-CALDESC:
X-WR-TIMEZONE:Europe/Stockholm
BEGIN:VTIMEZONE
TZID:Europe/Stockholm
BEGIN:STANDARD
TZOFFSETFROM:+0200
TZOFFSETTO:+0100
DTSTART:20211031T010000
TZNAME:CET
END:STANDARD
END:VTIMEZONE
BEGIN:VTIMEZONE
TZID:Europe/Stockholm
BEGIN:STANDARD
TZOFFSETFROM:+0200
TZOFFSETTO:+0100
DTSTART:20211031T010000
TZNAME:CET
END:STANDARD
END:VTIMEZONE
BEGIN:VEVENT
SUMMARY:Inside Out (tonår)
DESCRIPTION:kl 19. Fika\, undervisning &amp\; aktiviteter\nFrån årskur
 s 7 och uppåt - Se program\nInfo: Simon 070-520 24 66
URL;VALUE=URI:https://vasakyrkan.nu/events/inside-out-tonar-15/
UID:urn:uuid:8e2b61fe-9bab-41f1-8d91-30accead95fa
STATUS:CONFIRMED
ORGANIZER:
DTSTAMP:20260422T035341Z
DTSTART;TZID=Europe/Stockholm:20220311T190000
DTEND;TZID=Europe/Stockholm:20220311T190000
END:VEVENT
END:VCALENDAR