BEGIN:VCALENDAR
METHOD:PUBLISH
VERSION:2.0
CALSCALE:GREGORIAN
PRODID:-//NONSGML WPForms//NONSGML Sugar Calendar Feeds v3.11.0//EN
X-WR-CALNAME:Inside Out
X-WR-CALDESC:
X-WR-TIMEZONE:Europe/Stockholm
BEGIN:VTIMEZONE
TZID:Europe/Stockholm
BEGIN:STANDARD
TZOFFSETFROM:+0200
TZOFFSETTO:+0100
DTSTART:20241027T010000
TZNAME:CET
END:STANDARD
END:VTIMEZONE
BEGIN:VTIMEZONE
TZID:Europe/Stockholm
BEGIN:STANDARD
TZOFFSETFROM:+0200
TZOFFSETTO:+0100
DTSTART:20241027T010000
TZNAME:CET
END:STANDARD
END:VTIMEZONE
BEGIN:VEVENT
SUMMARY:Inside Out
DESCRIPTION:19 Samling i Vasakyrkan\nFrån årskurs 7 och uppåt – Se 
 program\nInfo: David Gränsmark 070-363 82 13
URL;VALUE=URI:https://vasakyrkan.nu/events/inside-out-67/
UID:urn:uuid:88448aa1-9b58-44b2-bfce-4e83a18beee8
STATUS:CONFIRMED
ORGANIZER:
DTSTAMP:20260422T212242Z
DTSTART;TZID=Europe/Stockholm:20250124T190000
DTEND;TZID=Europe/Stockholm:20250124T220000
END:VEVENT
END:VCALENDAR