BEGIN:VCALENDAR
METHOD:PUBLISH
VERSION:2.0
CALSCALE:GREGORIAN
PRODID:-//NONSGML WPForms//NONSGML Sugar Calendar Feeds v3.11.0//EN
X-WR-CALNAME:Inside Out - Avslutning i Mossebo
X-WR-CALDESC:
X-WR-TIMEZONE:Europe/Stockholm
BEGIN:VTIMEZONE
TZID:Europe/Stockholm
BEGIN:DAYLIGHT
TZOFFSETFROM:+0100
TZOFFSETTO:+0200
DTSTART:20240331T010000
TZNAME:CEST
END:DAYLIGHT
END:VTIMEZONE
BEGIN:VTIMEZONE
TZID:Europe/Stockholm
BEGIN:DAYLIGHT
TZOFFSETFROM:+0100
TZOFFSETTO:+0200
DTSTART:20240331T010000
TZNAME:CEST
END:DAYLIGHT
END:VTIMEZONE
BEGIN:VEVENT
SUMMARY:Inside Out - Avslutning i Mossebo
DESCRIPTION:19 Avslutning i Mossebo - Ekumeniskt\nFrån årskurs 7 och u
 ppåt – Se program\nInfo: David Gränsmark 070-363 82 13
URL;VALUE=URI:https://vasakyrkan.nu/events/inside-out-57/
UID:urn:uuid:77aa7565-33f4-4ecd-97c0-a5fdbad521af
STATUS:CONFIRMED
ORGANIZER:
DTSTAMP:20260422T091219Z
DTSTART;TZID=Europe/Stockholm:20240531T190000
DTEND;TZID=Europe/Stockholm:20240531T220000
END:VEVENT
END:VCALENDAR