BEGIN:VCALENDAR
METHOD:PUBLISH
VERSION:2.0
CALSCALE:GREGORIAN
PRODID:-//NONSGML WPForms//NONSGML Sugar Calendar Feeds v3.11.0//EN
X-WR-CALNAME:Inside Out
X-WR-CALDESC:
X-WR-TIMEZONE:Europe/Stockholm
BEGIN:VTIMEZONE
TZID:Europe/Stockholm
BEGIN:DAYLIGHT
TZOFFSETFROM:+0100
TZOFFSETTO:+0200
DTSTART:20200329T010000
TZNAME:CEST
END:DAYLIGHT
END:VTIMEZONE
BEGIN:VTIMEZONE
TZID:Europe/Stockholm
BEGIN:DAYLIGHT
TZOFFSETFROM:+0100
TZOFFSETTO:+0200
DTSTART:20200329T010000
TZNAME:CEST
END:DAYLIGHT
END:VTIMEZONE
BEGIN:VEVENT
SUMMARY:Inside Out
DESCRIPTION:Grill och Bad\nSamling i Vasakyrkan\nFredag\n26 juni klockan
  19.00
URL;VALUE=URI:https://vasakyrkan.nu/events/inside-out-5/
UID:urn:uuid:32e48154-7c64-42a3-8c7a-6ce3d268f08d
STATUS:CONFIRMED
ORGANIZER:
DTSTAMP:20260426T013805Z
DTSTART;TZID=Europe/Stockholm:20200626T190000
DTEND;TZID=Europe/Stockholm:20200626T190000
END:VEVENT
END:VCALENDAR