BEGIN:VCALENDAR
METHOD:PUBLISH
VERSION:2.0
CALSCALE:GREGORIAN
PRODID:-//NONSGML WPForms//NONSGML Sugar Calendar Feeds v3.11.0//EN
X-WR-CALNAME:Inside Out
X-WR-CALDESC:
X-WR-TIMEZONE:Europe/Stockholm
BEGIN:VTIMEZONE
TZID:Europe/Stockholm
BEGIN:STANDARD
TZOFFSETFROM:+0200
TZOFFSETTO:+0100
DTSTART:20231029T010000
TZNAME:CET
END:STANDARD
END:VTIMEZONE
BEGIN:VTIMEZONE
TZID:Europe/Stockholm
BEGIN:STANDARD
TZOFFSETFROM:+0200
TZOFFSETTO:+0100
DTSTART:20231029T010000
TZNAME:CET
END:STANDARD
END:VTIMEZONE
BEGIN:VEVENT
SUMMARY:Inside Out
DESCRIPTION:19 Samling i Vasakyrkan\nFrån årskurs 7 och uppåt – Se 
 program\nInfo: David Gränsmark 070-363 82 13
URL;VALUE=URI:https://vasakyrkan.nu/events/inside-out-49/
UID:urn:uuid:61aeb690-2fdc-4b06-8a97-0032abf92f14
STATUS:CONFIRMED
ORGANIZER:
DTSTAMP:20260420T173455Z
DTSTART;TZID=Europe/Stockholm:20240315T190000
DTEND;TZID=Europe/Stockholm:20240315T220000
END:VEVENT
END:VCALENDAR