BEGIN:VCALENDAR
METHOD:PUBLISH
VERSION:2.0
CALSCALE:GREGORIAN
PRODID:-//NONSGML WPForms//NONSGML Sugar Calendar Feeds v3.11.0//EN
X-WR-CALNAME:Inside Out
X-WR-CALDESC:
X-WR-TIMEZONE:Europe/Stockholm
BEGIN:VTIMEZONE
TZID:Europe/Stockholm
BEGIN:STANDARD
TZOFFSETFROM:+0200
TZOFFSETTO:+0100
DTSTART:20251026T010000
TZNAME:CET
END:STANDARD
END:VTIMEZONE
BEGIN:VTIMEZONE
TZID:Europe/Stockholm
BEGIN:STANDARD
TZOFFSETFROM:+0200
TZOFFSETTO:+0100
DTSTART:20251026T010000
TZNAME:CET
END:STANDARD
END:VTIMEZONE
BEGIN:VEVENT
SUMMARY:Inside Out
DESCRIPTION:Inside Out\nUkraina kväll och "Bäst i test"\nFredag 6 mars
  kl 19
URL;VALUE=URI:https://vasakyrkan.nu/events/inside-out-37/
UID:urn:uuid:fbab5141-411b-41a7-8147-773a74159cd8
STATUS:CONFIRMED
ORGANIZER:
DTSTAMP:20260421T180712Z
DTSTART;TZID=Europe/Stockholm:20260306T190000
DTEND;TZID=Europe/Stockholm:20260306T230000
END:VEVENT
END:VCALENDAR