BEGIN:VCALENDAR
METHOD:PUBLISH
VERSION:2.0
CALSCALE:GREGORIAN
PRODID:-//NONSGML WPForms//NONSGML Sugar Calendar Feeds v3.11.0//EN
X-WR-CALNAME:Inside Out
X-WR-CALDESC:
X-WR-TIMEZONE:Europe/Stockholm
BEGIN:VTIMEZONE
TZID:Europe/Stockholm
BEGIN:DAYLIGHT
TZOFFSETFROM:+0200
TZOFFSETTO:+0200
DTSTART:20220415T070000
TZNAME:CEST
END:DAYLIGHT
END:VTIMEZONE
BEGIN:VTIMEZONE
TZID:Europe/Stockholm
BEGIN:DAYLIGHT
TZOFFSETFROM:+0200
TZOFFSETTO:+0200
DTSTART:20220415T070000
TZNAME:CEST
END:DAYLIGHT
END:VTIMEZONE
BEGIN:VEVENT
SUMMARY:Inside Out
DESCRIPTION:19 Samling i Vasakyrkan\nFrån årskurs 7 och uppåt – Se 
 program\nInfo: David Gränsmark 070-363 82 13
URL;VALUE=URI:https://vasakyrkan.nu/events/inside-out-26/
UID:urn:uuid:c7381960-8ebd-48e1-adf7-89ebe8dcf2c2
STATUS:CONFIRMED
ORGANIZER:
DTSTAMP:20260425T180105Z
DTSTART;TZID=Europe/Stockholm:20221014T190000
DTEND;TZID=Europe/Stockholm:20221014T220000
END:VEVENT
END:VCALENDAR