BEGIN:VCALENDAR
METHOD:PUBLISH
VERSION:2.0
CALSCALE:GREGORIAN
PRODID:-//NONSGML WPForms//NONSGML Sugar Calendar Feeds v3.11.0//EN
X-WR-CALNAME:Inside out
X-WR-CALDESC:
X-WR-TIMEZONE:Europe/Stockholm
BEGIN:VTIMEZONE
TZID:Europe/Stockholm
BEGIN:DAYLIGHT
TZOFFSETFROM:+0100
TZOFFSETTO:+0200
DTSTART:20200329T010000
TZNAME:CEST
END:DAYLIGHT
END:VTIMEZONE
BEGIN:VTIMEZONE
TZID:Europe/Stockholm
BEGIN:DAYLIGHT
TZOFFSETFROM:+0100
TZOFFSETTO:+0200
DTSTART:20200329T010000
TZNAME:CEST
END:DAYLIGHT
END:VTIMEZONE
BEGIN:VEVENT
SUMMARY:Inside out
DESCRIPTION:Vi träffas i Vasakyrkan\nFredag\n4 september klockan 19.00
URL;VALUE=URI:https://vasakyrkan.nu/events/insid-out-2/
UID:urn:uuid:60181e6a-000e-4fcd-b8c3-0230ef660f6d
STATUS:CONFIRMED
ORGANIZER:
DTSTAMP:20260421T093708Z
DTSTART;TZID=Europe/Stockholm:20200904T190000
DTEND;TZID=Europe/Stockholm:20200904T190000
END:VEVENT
END:VCALENDAR