BEGIN:VCALENDAR
METHOD:PUBLISH
VERSION:2.0
CALSCALE:GREGORIAN
PRODID:-//NONSGML WPForms//NONSGML Sugar Calendar Feeds v3.11.0//EN
X-WR-CALNAME:Gudstjänst Weichbrodt/Järpehag
X-WR-CALDESC:
X-WR-TIMEZONE:Europe/Stockholm
BEGIN:VTIMEZONE
TZID:Europe/Stockholm
BEGIN:STANDARD
TZOFFSETFROM:+0200
TZOFFSETTO:+0100
DTSTART:20231029T010000
TZNAME:CET
END:STANDARD
END:VTIMEZONE
BEGIN:VTIMEZONE
TZID:Europe/Stockholm
BEGIN:STANDARD
TZOFFSETFROM:+0200
TZOFFSETTO:+0100
DTSTART:20231029T010000
TZNAME:CET
END:STANDARD
END:VTIMEZONE
BEGIN:VEVENT
SUMMARY:Gudstjänst Weichbrodt/Järpehag
DESCRIPTION:Hans Weichbrodt\, Bo Järpehag\nLänk till webbgudstjänsten
 .\nSöndag 11 februari kl 10
URL;VALUE=URI:https://vasakyrkan.nu/events/gudstjanst-weichbrodt-jarpeha
 g/
UID:urn:uuid:53707e1f-ce7c-4631-8a74-b8aa39e85fb3
STATUS:CONFIRMED
ORGANIZER:
DTSTAMP:20260422T024330Z
DTSTART;TZID=Europe/Stockholm:20240211T100000
DTEND;TZID=Europe/Stockholm:20240211T113000
END:VEVENT
END:VCALENDAR