BEGIN:VCALENDAR
METHOD:PUBLISH
VERSION:2.0
CALSCALE:GREGORIAN
PRODID:-//NONSGML WPForms//NONSGML Sugar Calendar Feeds v3.11.0//EN
X-WR-CALNAME:Gudstjänst via nätet
X-WR-CALDESC:
X-WR-TIMEZONE:Europe/Stockholm
BEGIN:VTIMEZONE
TZID:Europe/Stockholm
BEGIN:STANDARD
TZOFFSETFROM:+0200
TZOFFSETTO:+0100
DTSTART:20201025T010000
TZNAME:CET
END:STANDARD
END:VTIMEZONE
BEGIN:VTIMEZONE
TZID:Europe/Stockholm
BEGIN:STANDARD
TZOFFSETFROM:+0200
TZOFFSETTO:+0100
DTSTART:20201025T010000
TZNAME:CET
END:STANDARD
END:VTIMEZONE
BEGIN:VEVENT
SUMMARY:Gudstjänst via nätet
DESCRIPTION:Predikan av Tina Nordström\nLänk till webbgudstjänsten.\n
 Söndag 28 februari kl 10
URL;VALUE=URI:https://vasakyrkan.nu/events/gudstjanst-via-natet-3/
UID:urn:uuid:51758e2b-5b51-40eb-87fb-0152f7d36a5e
STATUS:CONFIRMED
ORGANIZER:
DTSTAMP:20260422T111311Z
DTSTART;TZID=Europe/Stockholm:20210228T000000
DTEND;TZID=Europe/Stockholm:20210228T000000
END:VEVENT
END:VCALENDAR