BEGIN:VCALENDAR
METHOD:PUBLISH
VERSION:2.0
CALSCALE:GREGORIAN
PRODID:-//NONSGML WPForms//NONSGML Sugar Calendar Feeds v3.11.0//EN
X-WR-CALNAME:Gudstjänst på Swahili
X-WR-CALDESC:
X-WR-TIMEZONE:Europe/Stockholm
BEGIN:VTIMEZONE
TZID:Europe/Stockholm
BEGIN:DAYLIGHT
TZOFFSETFROM:+0100
TZOFFSETTO:+0200
DTSTART:20210328T010000
TZNAME:CEST
END:DAYLIGHT
END:VTIMEZONE
BEGIN:VTIMEZONE
TZID:Europe/Stockholm
BEGIN:DAYLIGHT
TZOFFSETFROM:+0100
TZOFFSETTO:+0200
DTSTART:20210328T010000
TZNAME:CEST
END:DAYLIGHT
END:VTIMEZONE
BEGIN:VEVENT
SUMMARY:Gudstjänst på Swahili
DESCRIPTION:Gudstjänst på Swahili\nKaribu! /Välkommen!\nLördag 17 ju
 li kl 10-12
URL;VALUE=URI:https://vasakyrkan.nu/events/gudstjanst-pa-swahili-5/
UID:urn:uuid:8b876d18-f3e0-41a0-9c60-cd9da00d8ab5
STATUS:CONFIRMED
ORGANIZER:
DTSTAMP:20260422T034711Z
DTSTART;TZID=Europe/Stockholm:20210717T100000
DTEND;TZID=Europe/Stockholm:20210717T120000
END:VEVENT
END:VCALENDAR