BEGIN:VCALENDAR
METHOD:PUBLISH
VERSION:2.0
CALSCALE:GREGORIAN
PRODID:-//NONSGML WPForms//NONSGML Sugar Calendar Feeds v3.11.0//EN
X-WR-CALNAME:Gudstjänst med nattvard
X-WR-CALDESC:
X-WR-TIMEZONE:Europe/Stockholm
BEGIN:VTIMEZONE
TZID:Europe/Stockholm
BEGIN:DAYLIGHT
TZOFFSETFROM:+0100
TZOFFSETTO:+0200
DTSTART:20250330T010000
TZNAME:CEST
END:DAYLIGHT
END:VTIMEZONE
BEGIN:VTIMEZONE
TZID:Europe/Stockholm
BEGIN:DAYLIGHT
TZOFFSETFROM:+0100
TZOFFSETTO:+0200
DTSTART:20250330T010000
TZNAME:CEST
END:DAYLIGHT
END:VTIMEZONE
BEGIN:VEVENT
SUMMARY:Gudstjänst med nattvard
DESCRIPTION:Bertil Åhman\nLänk till webbgudstjänsten.\nSöndag 4 maj 
 kl 10
URL;VALUE=URI:https://vasakyrkan.nu/events/gudstjanst-med-nattvard-23/
UID:urn:uuid:11a75f51-b4f1-4481-9e87-1ef0933863bd
STATUS:CONFIRMED
ORGANIZER:
DTSTAMP:20260421T145649Z
DTSTART;TZID=Europe/Stockholm:20250504T100000
DTEND;TZID=Europe/Stockholm:20250504T113000
END:VEVENT
END:VCALENDAR