BEGIN:VCALENDAR
METHOD:PUBLISH
VERSION:2.0
CALSCALE:GREGORIAN
PRODID:-//NONSGML WPForms//NONSGML Sugar Calendar Feeds v3.11.0//EN
X-WR-CALNAME:Gudstjänst Långfredag
X-WR-CALDESC:
X-WR-TIMEZONE:Europe/Stockholm
BEGIN:VTIMEZONE
TZID:Europe/Stockholm
BEGIN:STANDARD
TZOFFSETFROM:+0200
TZOFFSETTO:+0100
DTSTART:20221030T010000
TZNAME:CET
END:STANDARD
BEGIN:DAYLIGHT
TZOFFSETFROM:+0100
TZOFFSETTO:+0200
DTSTART:20230326T010000
TZNAME:CEST
END:DAYLIGHT
END:VTIMEZONE
BEGIN:VTIMEZONE
TZID:Europe/Stockholm
BEGIN:STANDARD
TZOFFSETFROM:+0200
TZOFFSETTO:+0100
DTSTART:20221030T010000
TZNAME:CET
END:STANDARD
BEGIN:DAYLIGHT
TZOFFSETFROM:+0100
TZOFFSETTO:+0200
DTSTART:20230326T010000
TZNAME:CEST
END:DAYLIGHT
END:VTIMEZONE
BEGIN:VEVENT
SUMMARY:Gudstjänst Långfredag
DESCRIPTION:Bertil Åhman predikar\nLänk till webbgudstjänsten.\nLång
 fredag 7 april kl 10
URL;VALUE=URI:https://vasakyrkan.nu/events/gudstjanst-langfredag/
UID:urn:uuid:d786ca1b-e0d7-4386-80da-6d9cbf4992f6
STATUS:CONFIRMED
ORGANIZER:
DTSTAMP:20260425T193002Z
DTSTART;TZID=Europe/Stockholm:20230407T100000
DTEND;TZID=Europe/Stockholm:20230407T111500
END:VEVENT
END:VCALENDAR