BEGIN:VCALENDAR
METHOD:PUBLISH
VERSION:2.0
CALSCALE:GREGORIAN
PRODID:-//NONSGML WPForms//NONSGML Sugar Calendar Feeds v3.11.0//EN
X-WR-CALNAME:Gudstjänst "Gudsfruktan"
X-WR-CALDESC:
X-WR-TIMEZONE:Europe/Stockholm
BEGIN:VTIMEZONE
TZID:Europe/Stockholm
BEGIN:STANDARD
TZOFFSETFROM:+0200
TZOFFSETTO:+0100
DTSTART:20231029T010000
TZNAME:CET
END:STANDARD
END:VTIMEZONE
BEGIN:VTIMEZONE
TZID:Europe/Stockholm
BEGIN:STANDARD
TZOFFSETFROM:+0200
TZOFFSETTO:+0100
DTSTART:20231029T010000
TZNAME:CET
END:STANDARD
END:VTIMEZONE
BEGIN:VEVENT
SUMMARY:Gudstjänst "Gudsfruktan"
DESCRIPTION:Anna-Carin Bredmar predikar\nLänk till webbgudstjänsten.\n
 Söndag 29 oktober kl 10
URL;VALUE=URI:https://vasakyrkan.nu/events/gudstjanst-gudsfruktan/
UID:urn:uuid:a6f90fc1-8769-48ed-8f5d-9812234dac5d
STATUS:CONFIRMED
ORGANIZER:
DTSTAMP:20260425T211317Z
DTSTART;TZID=Europe/Stockholm:20231029T100000
DTEND;TZID=Europe/Stockholm:20231029T111500
END:VEVENT
END:VCALENDAR