BEGIN:VCALENDAR
METHOD:PUBLISH
VERSION:2.0
CALSCALE:GREGORIAN
PRODID:-//NONSGML WPForms//NONSGML Sugar Calendar Feeds v3.11.0//EN
X-WR-CALNAME:Gudstjänst Årshögtid
X-WR-CALDESC:
X-WR-TIMEZONE:Europe/Stockholm
BEGIN:VTIMEZONE
TZID:Europe/Stockholm
BEGIN:STANDARD
TZOFFSETFROM:+0200
TZOFFSETTO:+0100
DTSTART:20241027T010000
TZNAME:CET
END:STANDARD
END:VTIMEZONE
BEGIN:VTIMEZONE
TZID:Europe/Stockholm
BEGIN:STANDARD
TZOFFSETFROM:+0200
TZOFFSETTO:+0100
DTSTART:20241027T010000
TZNAME:CET
END:STANDARD
END:VTIMEZONE
BEGIN:VEVENT
SUMMARY:Gudstjänst Årshögtid
DESCRIPTION:Bertil Åhman\nLänk till webbgudstjänsten.\nSöndag 23 mar
 s kl 10
URL;VALUE=URI:https://vasakyrkan.nu/events/gudstjanst-arshogtid-2/
UID:urn:uuid:49ceef4d-ab22-4fd1-8249-b1bcd5e7b689
STATUS:CONFIRMED
ORGANIZER:
DTSTAMP:20260422T063948Z
DTSTART;TZID=Europe/Stockholm:20250323T100000
DTEND;TZID=Europe/Stockholm:20250323T113000
END:VEVENT
END:VCALENDAR