BEGIN:VCALENDAR
METHOD:PUBLISH
VERSION:2.0
CALSCALE:GREGORIAN
PRODID:-//NONSGML WPForms//NONSGML Sugar Calendar Feeds v3.11.0//EN
X-WR-CALNAME:Gudstjänst
X-WR-CALDESC:
X-WR-TIMEZONE:Europe/Stockholm
BEGIN:VTIMEZONE
TZID:Europe/Stockholm
BEGIN:STANDARD
TZOFFSETFROM:+0200
TZOFFSETTO:+0100
DTSTART:20231029T010000
TZNAME:CET
END:STANDARD
END:VTIMEZONE
BEGIN:VTIMEZONE
TZID:Europe/Stockholm
BEGIN:STANDARD
TZOFFSETFROM:+0200
TZOFFSETTO:+0100
DTSTART:20231029T010000
TZNAME:CET
END:STANDARD
END:VTIMEZONE
BEGIN:VEVENT
SUMMARY:Gudstjänst
DESCRIPTION:"Salighet"\, Stina Polhage\nLänk till webbgudstjänsten.\nS
 öndag 14 januari kl 10
URL;VALUE=URI:https://vasakyrkan.nu/events/gudstjanst-91/
UID:urn:uuid:97930c01-3a8b-4270-9409-06628418a7a1
STATUS:CONFIRMED
ORGANIZER:
DTSTAMP:20260422T131510Z
DTSTART;TZID=Europe/Stockholm:20240114T100000
DTEND;TZID=Europe/Stockholm:20240114T113000
END:VEVENT
END:VCALENDAR