BEGIN:VCALENDAR
METHOD:PUBLISH
VERSION:2.0
CALSCALE:GREGORIAN
PRODID:-//NONSGML WPForms//NONSGML Sugar Calendar Feeds v3.11.0//EN
X-WR-CALNAME:Gudstjänst
X-WR-CALDESC:
X-WR-TIMEZONE:Europe/Stockholm
BEGIN:VTIMEZONE
TZID:Europe/Stockholm
BEGIN:DAYLIGHT
TZOFFSETFROM:+0100
TZOFFSETTO:+0200
DTSTART:20230326T010000
TZNAME:CEST
END:DAYLIGHT
END:VTIMEZONE
BEGIN:VTIMEZONE
TZID:Europe/Stockholm
BEGIN:DAYLIGHT
TZOFFSETFROM:+0100
TZOFFSETTO:+0200
DTSTART:20230326T010000
TZNAME:CEST
END:DAYLIGHT
END:VTIMEZONE
BEGIN:VEVENT
SUMMARY:Gudstjänst
DESCRIPTION:John Jeansson predikar\nLänk till webbgudstjänsten.\nSönd
 ag 14 maj kl 10
URL;VALUE=URI:https://vasakyrkan.nu/events/gudstjanst-74/
UID:urn:uuid:1a587a38-c60d-453f-8822-72a7f903a684
STATUS:CONFIRMED
ORGANIZER:
DTSTAMP:20260422T053605Z
DTSTART;TZID=Europe/Stockholm:20230514T100000
DTEND;TZID=Europe/Stockholm:20230514T111500
END:VEVENT
END:VCALENDAR