BEGIN:VCALENDAR
METHOD:PUBLISH
VERSION:2.0
CALSCALE:GREGORIAN
PRODID:-//NONSGML WPForms//NONSGML Sugar Calendar Feeds v3.11.0//EN
X-WR-CALNAME:Gudstjänst
X-WR-CALDESC:
X-WR-TIMEZONE:Europe/Stockholm
BEGIN:VTIMEZONE
TZID:Europe/Stockholm
BEGIN:STANDARD
TZOFFSETFROM:+0200
TZOFFSETTO:+0100
DTSTART:20221030T010000
TZNAME:CET
END:STANDARD
END:VTIMEZONE
BEGIN:VTIMEZONE
TZID:Europe/Stockholm
BEGIN:STANDARD
TZOFFSETFROM:+0200
TZOFFSETTO:+0100
DTSTART:20221030T010000
TZNAME:CET
END:STANDARD
END:VTIMEZONE
BEGIN:VEVENT
SUMMARY:Gudstjänst
DESCRIPTION:Ndyabahika Nsekuye predikar\nLänk till webbgudstjänsten.\n
 Söndag 20 november kl 10
URL;VALUE=URI:https://vasakyrkan.nu/events/gudstjanst-59/
UID:urn:uuid:28fca9a4-8334-4340-b61f-8bae04eb4965
STATUS:CONFIRMED
ORGANIZER:
DTSTAMP:20260422T142753Z
DTSTART;TZID=Europe/Stockholm:20221120T100000
DTEND;TZID=Europe/Stockholm:20221120T111500
END:VEVENT
END:VCALENDAR