BEGIN:VCALENDAR
METHOD:PUBLISH
VERSION:2.0
CALSCALE:GREGORIAN
PRODID:-//NONSGML WPForms//NONSGML Sugar Calendar Feeds v3.11.0//EN
X-WR-CALNAME:Gudstjänst
X-WR-CALDESC:
X-WR-TIMEZONE:Europe/Stockholm
BEGIN:VTIMEZONE
TZID:Europe/Stockholm
BEGIN:STANDARD
TZOFFSETFROM:+0200
TZOFFSETTO:+0100
DTSTART:20211031T010000
TZNAME:CET
END:STANDARD
END:VTIMEZONE
BEGIN:VTIMEZONE
TZID:Europe/Stockholm
BEGIN:STANDARD
TZOFFSETFROM:+0200
TZOFFSETTO:+0100
DTSTART:20211031T010000
TZNAME:CET
END:STANDARD
END:VTIMEZONE
BEGIN:VEVENT
SUMMARY:Gudstjänst
DESCRIPTION:Stina Polhage predikar\nLänk till webbgudstjänsten.\nSönd
 ag 20 mars kl 10
URL;VALUE=URI:https://vasakyrkan.nu/events/gudstjanst-34/
UID:urn:uuid:77fe2a65-0661-470c-8919-79a0850a8a13
STATUS:CONFIRMED
ORGANIZER:
DTSTAMP:20260421T223238Z
DTSTART;TZID=Europe/Stockholm:20220320T095500
DTEND;TZID=Europe/Stockholm:20220320T111500
END:VEVENT
END:VCALENDAR