BEGIN:VCALENDAR
METHOD:PUBLISH
VERSION:2.0
CALSCALE:GREGORIAN
PRODID:-//NONSGML WPForms//NONSGML Sugar Calendar Feeds v3.11.0//EN
X-WR-CALNAME:Gudstjänst
X-WR-CALDESC:
X-WR-TIMEZONE:Europe/Stockholm
BEGIN:VTIMEZONE
TZID:Europe/Stockholm
BEGIN:DAYLIGHT
TZOFFSETFROM:+0100
TZOFFSETTO:+0200
DTSTART:20210328T010000
TZNAME:CEST
END:DAYLIGHT
END:VTIMEZONE
BEGIN:VTIMEZONE
TZID:Europe/Stockholm
BEGIN:DAYLIGHT
TZOFFSETFROM:+0100
TZOFFSETTO:+0200
DTSTART:20210328T010000
TZNAME:CEST
END:DAYLIGHT
END:VTIMEZONE
BEGIN:VEVENT
SUMMARY:Gudstjänst
DESCRIPTION:Kicki Löwenham predikar\nLänk till webbgudstjänsten.\nSö
 ndag 15 augusti kl 10
URL;VALUE=URI:https://vasakyrkan.nu/events/gudstjanst-23/
UID:urn:uuid:471eccd0-d69d-4ddb-85d7-bd91ff643213
STATUS:CONFIRMED
ORGANIZER:
DTSTAMP:20260421T161922Z
DTSTART;TZID=Europe/Stockholm:20210815T100000
DTEND;TZID=Europe/Stockholm:20210815T113000
END:VEVENT
END:VCALENDAR