BEGIN:VCALENDAR
METHOD:PUBLISH
VERSION:2.0
CALSCALE:GREGORIAN
PRODID:-//NONSGML WPForms//NONSGML Sugar Calendar Feeds v3.11.0//EN
X-WR-CALNAME:Gudstjänst
X-WR-CALDESC:
X-WR-TIMEZONE:Europe/Stockholm
BEGIN:VTIMEZONE
TZID:Europe/Stockholm
BEGIN:STANDARD
TZOFFSETFROM:+0200
TZOFFSETTO:+0100
DTSTART:20201025T010000
TZNAME:CET
END:STANDARD
END:VTIMEZONE
BEGIN:VTIMEZONE
TZID:Europe/Stockholm
BEGIN:STANDARD
TZOFFSETFROM:+0200
TZOFFSETTO:+0100
DTSTART:20201025T010000
TZNAME:CET
END:STANDARD
END:VTIMEZONE
BEGIN:VEVENT
SUMMARY:Gudstjänst
DESCRIPTION:Predikan\, sång och musik\nSöndag\n27 december klockan 10.
 00\nLänk till webbgudstjänsten
URL;VALUE=URI:https://vasakyrkan.nu/events/gudstjanst-16/
UID:urn:uuid:ea98593d-961d-4cfe-ae31-3977fbd45bbf
STATUS:CONFIRMED
ORGANIZER:
DTSTAMP:20260423T025633Z
DTSTART;TZID=Europe/Stockholm:20201227T100000
DTEND;TZID=Europe/Stockholm:20201227T100000
END:VEVENT
END:VCALENDAR