BEGIN:VCALENDAR
METHOD:PUBLISH
VERSION:2.0
CALSCALE:GREGORIAN
PRODID:-//NONSGML WPForms//NONSGML Sugar Calendar Feeds v3.11.0//EN
X-WR-CALNAME:Gudstjänst
X-WR-CALDESC:
X-WR-TIMEZONE:Europe/Stockholm
BEGIN:VTIMEZONE
TZID:Europe/Stockholm
BEGIN:DAYLIGHT
TZOFFSETFROM:+0100
TZOFFSETTO:+0200
DTSTART:20250330T010000
TZNAME:CEST
END:DAYLIGHT
END:VTIMEZONE
BEGIN:VTIMEZONE
TZID:Europe/Stockholm
BEGIN:DAYLIGHT
TZOFFSETFROM:+0100
TZOFFSETTO:+0200
DTSTART:20250330T010000
TZNAME:CEST
END:DAYLIGHT
END:VTIMEZONE
BEGIN:VEVENT
SUMMARY:Gudstjänst
DESCRIPTION:Bertil Åhman\nLänk till webbgudstjänsten.\nSöndag 22 jun
 i kl 10
URL;VALUE=URI:https://vasakyrkan.nu/events/gudstjanst-139/
UID:urn:uuid:2f96624f-fa9d-474e-98be-13aeb634fcce
STATUS:CONFIRMED
ORGANIZER:
DTSTAMP:20260423T165430Z
DTSTART;TZID=Europe/Stockholm:20250622T100000
DTEND;TZID=Europe/Stockholm:20250622T113000
END:VEVENT
END:VCALENDAR