BEGIN:VCALENDAR
METHOD:PUBLISH
VERSION:2.0
CALSCALE:GREGORIAN
PRODID:-//NONSGML WPForms//NONSGML Sugar Calendar Feeds v3.11.0//EN
X-WR-CALNAME:Gudstjänst
X-WR-CALDESC:
X-WR-TIMEZONE:Europe/Stockholm
BEGIN:VTIMEZONE
TZID:Europe/Stockholm
BEGIN:STANDARD
TZOFFSETFROM:+0200
TZOFFSETTO:+0100
DTSTART:20241027T010000
TZNAME:CET
END:STANDARD
END:VTIMEZONE
BEGIN:VTIMEZONE
TZID:Europe/Stockholm
BEGIN:STANDARD
TZOFFSETFROM:+0200
TZOFFSETTO:+0100
DTSTART:20241027T010000
TZNAME:CET
END:STANDARD
END:VTIMEZONE
BEGIN:VEVENT
SUMMARY:Gudstjänst
DESCRIPTION:Bertil Åhman\nLänk till webbgudstjänsten.\nSöndag 12 jan
 uari kl 10
URL;VALUE=URI:https://vasakyrkan.nu/events/gudstjanst-126/
UID:urn:uuid:ff360efd-ad36-4ced-b4a9-dfa0700f2a71
STATUS:CONFIRMED
ORGANIZER:
DTSTAMP:20260422T225719Z
DTSTART;TZID=Europe/Stockholm:20250112T100000
DTEND;TZID=Europe/Stockholm:20250112T111500
END:VEVENT
END:VCALENDAR