BEGIN:VCALENDAR
METHOD:PUBLISH
VERSION:2.0
CALSCALE:GREGORIAN
PRODID:-//NONSGML WPForms//NONSGML Sugar Calendar Feeds v3.11.0//EN
X-WR-CALNAME:Gudstjänst
X-WR-CALDESC:
X-WR-TIMEZONE:Europe/Stockholm
BEGIN:VTIMEZONE
TZID:Europe/Stockholm
BEGIN:DAYLIGHT
TZOFFSETFROM:+0200
TZOFFSETTO:+0200
DTSTART:20240420T220000
TZNAME:CEST
END:DAYLIGHT
END:VTIMEZONE
BEGIN:VTIMEZONE
TZID:Europe/Stockholm
BEGIN:DAYLIGHT
TZOFFSETFROM:+0200
TZOFFSETTO:+0200
DTSTART:20240420T220000
TZNAME:CEST
END:DAYLIGHT
END:VTIMEZONE
BEGIN:VEVENT
SUMMARY:Gudstjänst
DESCRIPTION:John Jeansson\nLänk till webbgudstjänsten.\nSöndag 20 okt
 ober kl 10
URL;VALUE=URI:https://vasakyrkan.nu/events/gudstjanst-117/
UID:urn:uuid:c9beead6-7b02-46d0-b7fd-4fd4e703ae8d
STATUS:CONFIRMED
ORGANIZER:
DTSTAMP:20260422T183827Z
DTSTART;TZID=Europe/Stockholm:20241020T100000
DTEND;TZID=Europe/Stockholm:20241020T111500
END:VEVENT
END:VCALENDAR