BEGIN:VCALENDAR
METHOD:PUBLISH
VERSION:2.0
CALSCALE:GREGORIAN
PRODID:-//NONSGML WPForms//NONSGML Sugar Calendar Feeds v3.11.0//EN
X-WR-CALNAME:Gudstjänst
X-WR-CALDESC:
X-WR-TIMEZONE:Europe/Stockholm
BEGIN:VTIMEZONE
TZID:Europe/Stockholm
BEGIN:DAYLIGHT
TZOFFSETFROM:+0100
TZOFFSETTO:+0200
DTSTART:20240331T010000
TZNAME:CEST
END:DAYLIGHT
END:VTIMEZONE
BEGIN:VTIMEZONE
TZID:Europe/Stockholm
BEGIN:DAYLIGHT
TZOFFSETFROM:+0100
TZOFFSETTO:+0200
DTSTART:20240331T010000
TZNAME:CEST
END:DAYLIGHT
END:VTIMEZONE
BEGIN:VEVENT
SUMMARY:Gudstjänst
DESCRIPTION:Bertil Åhman\nLänk till webbgudstjänsten.\nSöndag 16 jun
 i kl 10
URL;VALUE=URI:https://vasakyrkan.nu/events/gudstjanst-104/
UID:urn:uuid:fad22d30-6f6c-44ef-863f-9fde1066eec2
STATUS:CONFIRMED
ORGANIZER:
DTSTAMP:20260420T185418Z
DTSTART;TZID=Europe/Stockholm:20240616T100000
DTEND;TZID=Europe/Stockholm:20240616T113000
END:VEVENT
END:VCALENDAR